BEGIN:VCALENDAR
VERSION:2.0
PRODID:-//Vamos Fazer História - ECPv6.15.20//NONSGML v1.0//EN
CALSCALE:GREGORIAN
METHOD:PUBLISH
X-ORIGINAL-URL:https://www.vamosfazerhistoria.com.br
X-WR-CALDESC:Eventos para Vamos Fazer História
REFRESH-INTERVAL;VALUE=DURATION:PT1H
X-Robots-Tag:noindex
X-PUBLISHED-TTL:PT1H
BEGIN:VTIMEZONE
TZID:America/Sao_Paulo
BEGIN:STANDARD
TZOFFSETFROM:-0300
TZOFFSETTO:-0300
TZNAME:-03
DTSTART:20240101T000000
END:STANDARD
END:VTIMEZONE
BEGIN:VEVENT
DTSTART;TZID=America/Sao_Paulo:20251017T193000
DTEND;TZID=America/Sao_Paulo:20251018T033000
DTSTAMP:20260420T103043
CREATED:20250806T211201Z
LAST-MODIFIED:20250806T212445Z
UID:722-1760729400-1760758200@www.vamosfazerhistoria.com.br
SUMMARY:Casamento Ane & Thiago
DESCRIPTION:
URL:https://www.vamosfazerhistoria.com.br/evento/casamento-ane-thiago/
LOCATION:Galileu Garden Espaço de Eventos\, R. Clara Nunes\, 506 - Jardim Rosicler\, Londrina\, Paraná\, 86072-130\, Brazil
CATEGORIES:Casamentos
ATTACH;FMTTYPE=image/jpeg:https://www.vamosfazerhistoria.com.br/wp-content/uploads/2025/07/WhatsApp-Image-2025-07-23-at-14.22.24.jpeg
END:VEVENT
END:VCALENDAR